BEGIN:VCALENDAR
PRODID:-//github.com/ical-org/ical.net//NONSGML ical.net 5.2.1//EN
VERSION:2.0
BEGIN:VTIMEZONE
TZID:Europe/Amsterdam
X-LIC-LOCATION:Europe/Amsterdam
END:VTIMEZONE
BEGIN:VEVENT
DESCRIPTION:Deze avond is een uitstekende introductie tot meditatie en boed
 dhisme. In deze meditatiecursus leert Gen Dragpa je wat de voordelen van m
 editatie zijn en hoe je kunt mediteren. We leren ook hoe we een kalme en v
 redige geest kunnen ontwikkelen.
DTEND;TZID=Local:20260512T201500
DTSTAMP:20260420T171251Z
DTSTART;TZID=Local:20260512T190000
LOCATION:Nivon Rotterdam
SEQUENCE:0
SUMMARY:Modern Boeddhisme: Praktische wijsheid en meditatie in het dagelijk
 s leven
UID:2c778390-366c-40a8-9313-b002e618dfa3
URL:https://www.uitagendarotterdam.nl/agenda/modern-boeddhisme-praktische-w
 ijsheid-en-meditatie-in-het-dagelijks-leven/
END:VEVENT
END:VCALENDAR
