BEGIN:VCALENDAR
PRODID:-//github.com/ical-org/ical.net//NONSGML ical.net 5.2.1//EN
VERSION:2.0
BEGIN:VTIMEZONE
TZID:Europe/Amsterdam
X-LIC-LOCATION:Europe/Amsterdam
END:VTIMEZONE
BEGIN:VEVENT
DESCRIPTION:Het ultieme moederdag uitje: lekker samen lezen!
DTEND;TZID=Local:20260510T150000
DTSTAMP:20260420T163906Z
DTSTART;TZID=Local:20260510T130000
LOCATION:
SEQUENCE:0
SUMMARY:Silent Book Club ? Mother?s Day Special @ citizenM
UID:7fe74f3e-8b1c-4be8-8e58-177b6621304b
URL:https://www.uitagendarotterdam.nl/agenda/silent-book-club-mother-s-day-
 special-citizenm/
END:VEVENT
END:VCALENDAR
