BEGIN:VCALENDAR
PRODID:-//github.com/ical-org/ical.net//NONSGML ical.net 5.2.1//EN
VERSION:2.0
BEGIN:VTIMEZONE
TZID:Europe/Amsterdam
X-LIC-LOCATION:Europe/Amsterdam
END:VTIMEZONE
BEGIN:VEVENT
DESCRIPTION:Afterparty van Kroonjuweel Festival in Export.
DTEND;TZID=Local:20260427T060000
DTSTAMP:20260420T144510Z
DTSTART;TZID=Local:20260427T230000
LOCATION:Export
SEQUENCE:0
SUMMARY:Kroonjuweel Festival Afterparty
UID:bfa2fd72-21b1-42b9-b7b0-91f83c6cbc6a
URL:https://www.uitagendarotterdam.nl/agenda/kroonjuweel-festival-afterpart
 y/
END:VEVENT
END:VCALENDAR
