BEGIN:VCALENDAR
PRODID:-//github.com/ical-org/ical.net//NONSGML ical.net 5.2.1//EN
VERSION:2.0
BEGIN:VTIMEZONE
TZID:Europe/Amsterdam
X-LIC-LOCATION:Europe/Amsterdam
END:VTIMEZONE
BEGIN:VEVENT
DESCRIPTION:Operator bestaat 9 jaar\, om dit te vieren geven ze een feest i
 n Export.
DTEND;TZID=Local:20260425T060000
DTSTAMP:20260420T140005Z
DTSTART;TZID=Local:20260425T230000
LOCATION:Export
SEQUENCE:0
SUMMARY:Operator 9-Year Anniversary
UID:2e955b67-cbc1-4472-8427-567477bd6fdc
URL:https://www.uitagendarotterdam.nl/agenda/operator-9-year-anniversary/
END:VEVENT
END:VCALENDAR
