BEGIN:VCALENDAR
PRODID:-//github.com/ical-org/ical.net//NONSGML ical.net 5.2.1//EN
VERSION:2.0
BEGIN:VTIMEZONE
TZID:Europe/Amsterdam
X-LIC-LOCATION:Europe/Amsterdam
END:VTIMEZONE
BEGIN:VEVENT
DESCRIPTION:Gratis housefeest bij Mammarazzi.
DTEND;TZID=Local:20260426T030000
DTSTAMP:20260422T085533Z
DTSTART;TZID=Local:20260426T220000
LOCATION:
SEQUENCE:0
SUMMARY:Avonduurtjes!
UID:e9775f8d-fbf1-4be0-bd71-5da8840ec826
URL:https://www.uitagendarotterdam.nl/agenda/avonduurtjes/
END:VEVENT
END:VCALENDAR
