BEGIN:VCALENDAR
PRODID:-//github.com/ical-org/ical.net//NONSGML ical.net 5.2.1//EN
VERSION:2.0
BEGIN:VTIMEZONE
TZID:Europe/Amsterdam
X-LIC-LOCATION:Europe/Amsterdam
END:VTIMEZONE
BEGIN:VEVENT
DESCRIPTION:Koningsnacht in De Kunstfabriek\, georganiseerd door beev colle
 ctive\, met eten verzorgd door GQ Daily Food.
DTEND;TZID=Local:20260426T020000
DTSTAMP:20260420T140916Z
DTSTART;TZID=Local:20260426T170000
LOCATION:
SEQUENCE:0
SUMMARY:Kingsnight
UID:3ca14f6f-d640-429e-8758-3325d8fa9168
URL:https://www.uitagendarotterdam.nl/agenda/kingsnight/
END:VEVENT
END:VCALENDAR
