BEGIN:VCALENDAR
PRODID:-//github.com/ical-org/ical.net//NONSGML ical.net 5.2.1//EN
VERSION:2.0
BEGIN:VTIMEZONE
TZID:Europe/Amsterdam
X-LIC-LOCATION:Europe/Amsterdam
END:VTIMEZONE
BEGIN:VEVENT
DESCRIPTION:In het teken van alle Kings & Queens.\nGenres: salsa\, reggaeto
 n\, bachata\, kompa\, soca\, dancehall\, bubbling\, zouk\, samba en meer.
DTEND;TZID=Local:20260425T050000
DTSTAMP:20260420T130931Z
DTSTART;TZID=Local:20260425T230000
LOCATION:The Grit
SEQUENCE:0
SUMMARY:M?XIMA
UID:8804bbc6-2627-4005-8e51-d66f309be721
URL:https://www.uitagendarotterdam.nl/agenda/maxima/
END:VEVENT
END:VCALENDAR
