BEGIN:VCALENDAR
PRODID:-//github.com/ical-org/ical.net//NONSGML ical.net 5.2.1//EN
VERSION:2.0
BEGIN:VTIMEZONE
TZID:Europe/Amsterdam
X-LIC-LOCATION:Europe/Amsterdam
END:VTIMEZONE
BEGIN:VEVENT
DESCRIPTION:Een housefeest georganiseerd door modemerk THE MISSING PIECE.
DTEND;TZID=Local:20260426T010000
DTSTAMP:20260420T130845Z
DTSTART;TZID=Local:20260426T200000
LOCATION:The Grit
SEQUENCE:0
SUMMARY:THE MISSING PIECE - Kingsnight
UID:a40088a1-99d9-44a4-8879-c06caa5b4831
URL:https://www.uitagendarotterdam.nl/agenda/the-missing-piece-kingsnight/
END:VEVENT
END:VCALENDAR
