BEGIN:VCALENDAR
PRODID:-//github.com/ical-org/ical.net//NONSGML ical.net 5.2.1//EN
VERSION:2.0
BEGIN:VTIMEZONE
TZID:Europe/Amsterdam
X-LIC-LOCATION:Europe/Amsterdam
END:VTIMEZONE
BEGIN:VEVENT
DESCRIPTION:Een eclectische mix van klassiekers tot de hits van nu. Van afr
 o en pop tot house\, latin\, dancehall\, R&B\, hiphop en meer.
DTEND;TZID=Local:20260424T050000
DTSTAMP:20260420T133513Z
DTSTART;TZID=Local:20260424T230000
LOCATION:The Grit
SEQUENCE:0
SUMMARY:LIMBO - 3 YEARS ANNIVERSARY
UID:067e68a4-05f5-472f-9bd0-24464a7ec212
URL:https://www.uitagendarotterdam.nl/agenda/limbo-3-years-anniversary/
END:VEVENT
END:VCALENDAR
