BEGIN:VCALENDAR
PRODID:-//github.com/ical-org/ical.net//NONSGML ical.net 5.2.1//EN
VERSION:2.0
BEGIN:VTIMEZONE
TZID:Europe/Amsterdam
X-LIC-LOCATION:Europe/Amsterdam
END:VTIMEZONE
BEGIN:VEVENT
DESCRIPTION:Super Rich Kids is een wekelijkse clubavond in Rotterdam\, elke
  zaterdag te beleven in MUNCH. De avond staat bekend om een energieke sfee
 r\, een levendige mix van muziek en een bruisende locatie die bezoekers aa
 ntrekt.
DTEND;TZID=Local:20260509T040000
DTSTAMP:20260421T110635Z
DTSTART;TZID=Local:20260509T230000
LOCATION:Munch
SEQUENCE:0
SUMMARY:Super Rich Kids
UID:5f8f7bed-7d3e-4dac-aca6-516579fa84c4
URL:https://www.uitagendarotterdam.nl/agenda/super-rich-kids/
END:VEVENT
END:VCALENDAR
