BEGIN:VCALENDAR
PRODID:-//github.com/ical-org/ical.net//NONSGML ical.net 5.2.1//EN
VERSION:2.0
BEGIN:VTIMEZONE
TZID:Europe/Amsterdam
X-LIC-LOCATION:Europe/Amsterdam
END:VTIMEZONE
BEGIN:VEVENT
DESCRIPTION:Nog geen plannen voor Koningsnacht?
DTEND;TZID=Local:20260426T030000
DTSTAMP:20260420T005455Z
DTSTART;TZID=Local:20260426T220000
LOCATION:Mamarazzi
SEQUENCE:0
SUMMARY:Avonduurtjes!  Kings Night
UID:b619f280-185e-4de0-8837-a49c1d3531bf
URL:https://www.uitagendarotterdam.nl/agenda/avonduurtjes-kings-night/
END:VEVENT
END:VCALENDAR
