BEGIN:VCALENDAR
PRODID:-//github.com/ical-org/ical.net//NONSGML ical.net 5.2.1//EN
VERSION:2.0
BEGIN:VTIMEZONE
TZID:Europe/Amsterdam
X-LIC-LOCATION:Europe/Amsterdam
END:VTIMEZONE
BEGIN:VEVENT
DESCRIPTION:Voormalig loverboy Terrance probeert na een gevangenisstraf zij
 n leven weer op te bouwen\, maar wordt geconfronteerd met zijn verleden wa
 nneer de politie hem een gevaarlijke deal aanbiedt.
DTEND;TZID=Local:20260426T002100
DTSTAMP:20260421T035117Z
DTSTART;TZID=Local:20260426T223000
LOCATION:Path? Schouwburgplein
SEQUENCE:0
SUMMARY:Loverboy: Vertrouw Niemand
UID:6f36807f-241e-49fa-b26e-3b6dabff8c19
URL:https://www.uitagendarotterdam.nl/agenda/loverboy-vertrouw-niemand-1/
END:VEVENT
END:VCALENDAR
