BEGIN:VCALENDAR
PRODID:-//github.com/ical-org/ical.net//NONSGML ical.net 5.2.1//EN
VERSION:2.0
BEGIN:VTIMEZONE
TZID:Europe/Amsterdam
X-LIC-LOCATION:Europe/Amsterdam
END:VTIMEZONE
BEGIN:VEVENT
DESCRIPTION:Voormalig loverboy Terrance probeert na een gevangenisstraf zij
 n leven weer op te bouwen\, maar wordt geconfronteerd met zijn verleden wa
 nneer de politie hem een gevaarlijke deal aanbiedt.
DTEND;TZID=Local:20260424T210600
DTSTAMP:20260421T034741Z
DTSTART;TZID=Local:20260424T191500
LOCATION:Path? Schouwburgplein
SEQUENCE:0
SUMMARY:Loverboy: Vertrouw Niemand
UID:d65675d0-3013-4683-abb2-a4b58fb85624
URL:https://www.uitagendarotterdam.nl/agenda/loverboy-vertrouw-niemand-1/
END:VEVENT
END:VCALENDAR
