BEGIN:VCALENDAR
PRODID:-//github.com/ical-org/ical.net//NONSGML ical.net 5.2.1//EN
VERSION:2.0
BEGIN:VTIMEZONE
TZID:Europe/Amsterdam
X-LIC-LOCATION:Europe/Amsterdam
END:VTIMEZONE
BEGIN:VEVENT
DESCRIPTION:Natuurkundeleraar Ryland Grace (Academy Award? genomineerde Ry
 an Gosling) wordt lichtjaren van huis wakker op een ruimteschip zonder zic
 h te herinneren wie hij is of hoe hij daar is gekomen.
DTEND;TZID=Local:20260423T204600
DTSTAMP:20260421T043037Z
DTSTART;TZID=Local:20260423T175000
LOCATION:Path? Schouwburgplein
SEQUENCE:0
SUMMARY:Project Hail Mary
UID:32f62e7b-d225-4641-b80d-b38b63275860
URL:https://www.uitagendarotterdam.nl/agenda/project-hail-mary-2/
END:VEVENT
END:VCALENDAR
