BEGIN:VCALENDAR
PRODID:-//github.com/ical-org/ical.net//NONSGML ical.net 5.2.1//EN
VERSION:2.0
BEGIN:VTIMEZONE
TZID:Europe/Amsterdam
X-LIC-LOCATION:Europe/Amsterdam
END:VTIMEZONE
BEGIN:VEVENT
DESCRIPTION:Natuurkundeleraar Ryland Grace (Academy Award? genomineerde Ry
 an Gosling) wordt lichtjaren van huis wakker op een ruimteschip zonder zic
 h te herinneren wie hij is of hoe hij daar is gekomen.
DTEND;TZID=Local:20260421T132600
DTSTAMP:20260421T033329Z
DTSTART;TZID=Local:20260421T103000
LOCATION:Path? De Kuip
SEQUENCE:0
SUMMARY:Project Hail Mary
UID:fd9a4d1e-43bd-4444-85ff-09465b40f2f2
URL:https://www.uitagendarotterdam.nl/agenda/project-hail-mary-1/
END:VEVENT
END:VCALENDAR
