BEGIN:VCALENDAR
PRODID:-//github.com/ical-org/ical.net//NONSGML ical.net 5.2.1//EN
VERSION:2.0
BEGIN:VTIMEZONE
TZID:Europe/Amsterdam
X-LIC-LOCATION:Europe/Amsterdam
END:VTIMEZONE
BEGIN:VEVENT
DESCRIPTION:Met Zendaya en Robert Pattinson als verloofd stel bij wie het h
 e-le-maal misgaat in aanloop naar de bruiloft.
DTSTAMP:20260421T033258Z
DTSTART;TZID=Local:20260421T000000
LOCATION:KINO
SEQUENCE:0
SUMMARY:The Drama
UID:230a2347-d382-47df-a445-c704b3289385
URL:https://www.uitagendarotterdam.nl/agenda/the-drama/
END:VEVENT
END:VCALENDAR
