BEGIN:VCALENDAR
PRODID:-//github.com/ical-org/ical.net//NONSGML ical.net 5.2.1//EN
VERSION:2.0
BEGIN:VTIMEZONE
TZID:Europe/Amsterdam
X-LIC-LOCATION:Europe/Amsterdam
END:VTIMEZONE
BEGIN:VEVENT
DESCRIPTION:Natuurkundeleraar Ryland Grace (Ryan Gosling) wordt lichtjaren 
 van huis wakker op een ruimteschip zonder zich te herinneren wie hij is of
  hoe hij daar is gekomen.
DTSTAMP:20260421T033258Z
DTSTART;TZID=Local:20260421T000000
LOCATION:KINO
SEQUENCE:0
SUMMARY:Project Hail Mary
UID:a4fc6195-87dc-41eb-b072-953e5d4b85ef
URL:https://www.uitagendarotterdam.nl/agenda/project-hail-mary/
END:VEVENT
END:VCALENDAR
