BEGIN:VCALENDAR
PRODID:-//github.com/ical-org/ical.net//NONSGML ical.net 5.2.1//EN
VERSION:2.0
BEGIN:VTIMEZONE
TZID:Europe/Amsterdam
X-LIC-LOCATION:Europe/Amsterdam
END:VTIMEZONE
BEGIN:VEVENT
DESCRIPTION:Voormalig loverboy Terrance probeert na een gevangenisstraf zij
 n leven weer op te bouwen\, maar wordt geconfronteerd met zijn verleden wa
 nneer de politie hem een gevaarlijke deal aanbiedt.
DTEND;TZID=Local:20260422T220100
DTSTAMP:20260421T035031Z
DTSTART;TZID=Local:20260422T201000
LOCATION:Path? Schouwburgplein
SEQUENCE:0
SUMMARY:Loverboy: Vertrouw Niemand
UID:a9e2a98a-4071-4149-9eb7-f174aff590a2
URL:https://www.uitagendarotterdam.nl/agenda/loverboy-vertrouw-niemand-1/
END:VEVENT
END:VCALENDAR
