BEGIN:VCALENDAR
PRODID:-//github.com/ical-org/ical.net//NONSGML ical.net 5.2.1//EN
VERSION:2.0
BEGIN:VTIMEZONE
TZID:Europe/Amsterdam
X-LIC-LOCATION:Europe/Amsterdam
END:VTIMEZONE
BEGIN:VEVENT
DESCRIPTION:Avatar: Fire and Ash\, is de derde film in de fenomenaal succes
 volle Avatar-franchise\, die op 19 december 2025 wereldwijd in premi?re g
 aat\, exclusief in bioscopen.
DTEND;TZID=Local:20260419T171700
DTSTAMP:20260419T160543Z
DTSTART;TZID=Local:20260419T134000
LOCATION:Path? De Kuip
SEQUENCE:0
SUMMARY:Avatar: Fire and Ash
UID:2300d508-70dd-4684-be04-14742d7395fd
URL:https://www.uitagendarotterdam.nl/agenda/avatar-fire-and-ash/
END:VEVENT
END:VCALENDAR
