BEGIN:VCALENDAR
PRODID:-//github.com/ical-org/ical.net//NONSGML ical.net 5.2.1//EN
VERSION:2.0
BEGIN:VTIMEZONE
TZID:Europe/Amsterdam
X-LIC-LOCATION:Europe/Amsterdam
END:VTIMEZONE
BEGIN:VEVENT
DESCRIPTION:Beleef een tropische Hemelvaartsnacht in Bergen op Zoom! Geniet
  van een zwoele Latin Night met DJ Jarzino op een ruime dansvloer. Dans me
 e op salsa\, bachata en andere Zuid-Amerikaanse ritmes.
DTEND;TZID=Local:20260513T013000
DTSTAMP:20260421T030657Z
DTSTART;TZID=Local:20260513T210000
LOCATION:Zomerhofkwartier (ZOHO)
SEQUENCE:0
SUMMARY:Tropalize
UID:912a8111-655f-4fb9-aab0-e9bbd616da51
URL:https://www.uitagendarotterdam.nl/agenda/tropalize/
END:VEVENT
END:VCALENDAR
