BEGIN:VCALENDAR
PRODID:-//github.com/ical-org/ical.net//NONSGML ical.net 5.2.1//EN
VERSION:2.0
BEGIN:VTIMEZONE
TZID:Europe/Amsterdam
X-LIC-LOCATION:Europe/Amsterdam
END:VTIMEZONE
BEGIN:VEVENT
DESCRIPTION:Laagdrempelige platenbeurs in Rotown
DTEND;TZID=Local:20260531T170000
DTSTAMP:20260421T104950Z
DTSTART;TZID=Local:20260531T140000
LOCATION:Rotown
SEQUENCE:0
SUMMARY:Records\, DJ?s & Drinks
UID:f05f7e8a-559a-437f-af07-c132ce23aff2
URL:https://www.uitagendarotterdam.nl/agenda/records-dj-s-drinks/
END:VEVENT
END:VCALENDAR
