BEGIN:VCALENDAR
PRODID:-//github.com/ical-org/ical.net//NONSGML ical.net 5.2.1//EN
VERSION:2.0
BEGIN:VTIMEZONE
TZID:Europe/Amsterdam
X-LIC-LOCATION:Europe/Amsterdam
END:VTIMEZONE
BEGIN:VEVENT
DESCRIPTION:Natuurkundeleraar Ryland Grace (Academy Award? genomineerde Ry
 an Gosling) wordt lichtjaren van huis wakker op een ruimteschip zonder zic
 h te herinneren wie hij is of hoe hij daar is gekomen.
DTEND;TZID=Local:20260421T134100
DTSTAMP:20260421T043038Z
DTSTART;TZID=Local:20260421T104500
LOCATION:Path? Schouwburgplein
SEQUENCE:0
SUMMARY:Project Hail Mary
UID:c88fed3e-434d-4ded-b54a-56e20086c239
URL:https://www.uitagendarotterdam.nl/agenda/project-hail-mary-2/
END:VEVENT
END:VCALENDAR
