BEGIN:VCALENDAR
PRODID:-//github.com/ical-org/ical.net//NONSGML ical.net 5.2.1//EN
VERSION:2.0
BEGIN:VTIMEZONE
TZID:Europe/Amsterdam
X-LIC-LOCATION:Europe/Amsterdam
END:VTIMEZONE
BEGIN:VEVENT
DESCRIPTION:Marica Marinoni en Jef Everaert zijn beiden meester in het Cyr-
 wheel\, maar verschillen sterk van karakter. In het duet In Difference ont
 dek je hoe hun tegengestelde stijlen elkaar raken en versterken.
DTEND;TZID=Local:20260502T175500
DTSTAMP:20260421T033329Z
DTSTART;TZID=Local:20260502T170000
LOCATION:TR25 Schouwburg
SEQUENCE:0
SUMMARY:In Difference (8+) - Marinoni & Everaert
UID:0f5affea-f91e-4836-9bd9-4d466d765982
URL:https://www.uitagendarotterdam.nl/agenda/in-difference-8plus-marinoni-e
 veraert/
END:VEVENT
END:VCALENDAR
