BEGIN:VCALENDAR
PRODID:-//github.com/ical-org/ical.net//NONSGML ical.net 5.2.1//EN
VERSION:2.0
BEGIN:VTIMEZONE
TZID:Europe/Amsterdam
X-LIC-LOCATION:Europe/Amsterdam
END:VTIMEZONE
BEGIN:VEVENT
DESCRIPTION:Wat als juist de mensen die buiten de baas spelen\, thuis eigen
 lijk niks te zeggen hebben?
DTSTAMP:20260421T035551Z
DTSTART;TZID=Local:20260628T140000
LOCATION:Theater Zuidplein
SEQUENCE:0
SUMMARY:Paf? Badj?n\, paden chamb?n! Grupo di Komedia MaTaKuBi
UID:022d1d66-34c3-4b1b-8579-69404de63d8d
URL:https://www.uitagendarotterdam.nl/agenda/pafo-badjon-paden-chambon-grup
 o-di-komedia-matakubi/
END:VEVENT
END:VCALENDAR
