BEGIN:VCALENDAR
PRODID:-//github.com/ical-org/ical.net//NONSGML ical.net 5.2.1//EN
VERSION:2.0
BEGIN:VTIMEZONE
TZID:Europe/Amsterdam
X-LIC-LOCATION:Europe/Amsterdam
END:VTIMEZONE
BEGIN:VEVENT
DESCRIPTION:De gezelligste kennisquiz van de Nieuwe Binnenweg!
DTEND;TZID=Local:20260513T230000
DTSTAMP:20260421T052613Z
DTSTART;TZID=Local:20260513T200000
LOCATION:Rotown
SEQUENCE:0
SUMMARY:Rotown Pubquiz
UID:78b20b4f-5f92-4d5d-a54a-eeac9e4d2370
URL:https://www.uitagendarotterdam.nl/agenda/rotown-pubquiz/
END:VEVENT
END:VCALENDAR
