BEGIN:VCALENDAR
PRODID:-//github.com/ical-org/ical.net//NONSGML ical.net 5.2.1//EN
VERSION:2.0
BEGIN:VTIMEZONE
TZID:Europe/Amsterdam
X-LIC-LOCATION:Europe/Amsterdam
END:VTIMEZONE
BEGIN:VEVENT
DESCRIPTION:Voor iedereen die wel eens (of vaak) ?ja? zegt\, terwijl da
 t ?nee? had moeten zijn
DTEND;TZID=Local:20260603T223000
DTSTAMP:20260421T033256Z
DTSTART;TZID=Local:20260603T203000
LOCATION:Kantine Walhalla
SEQUENCE:0
SUMMARY:Ik Had Eigenlijk Nee Moeten Zeggen - Maarten Westra Hoekzema
UID:53e5f9e9-6ede-4308-a24f-17bc5fe51a82
URL:https://www.uitagendarotterdam.nl/agenda/ik-had-eigenlijk-nee-moeten-ze
 ggen-maarten-westra-hoekzema/
END:VEVENT
END:VCALENDAR
