BEGIN:VCALENDAR
PRODID:-//github.com/ical-org/ical.net//NONSGML ical.net 5.2.1//EN
VERSION:2.0
BEGIN:VTIMEZONE
TZID:Europe/Amsterdam
X-LIC-LOCATION:Europe/Amsterdam
END:VTIMEZONE
BEGIN:VEVENT
DESCRIPTION:De nieuwe film van Jim Jarmusch\, met Adam Driver als dichtende
  buschauffeur.
DTSTAMP:20260420T192117Z
DTSTART;TZID=Local:20260428T190500
LOCATION:KINO
SEQUENCE:0
SUMMARY:Paterson
UID:c77875ad-3d4a-4b6c-9367-2b7a3f646355
URL:https://www.uitagendarotterdam.nl/agenda/paterson/
END:VEVENT
END:VCALENDAR
