BEGIN:VCALENDAR
PRODID:-//github.com/ical-org/ical.net//NONSGML ical.net 5.2.1//EN
VERSION:2.0
BEGIN:VTIMEZONE
TZID:Europe/Amsterdam
X-LIC-LOCATION:Europe/Amsterdam
END:VTIMEZONE
BEGIN:VEVENT
DESCRIPTION:Rotown Nights: Dansen om 21.00 uur met de beste plaatjes van to
 en en nu
DTEND;TZID=Local:20260530T040000
DTSTAMP:20260425T132444Z
DTSTART;TZID=Local:20260530T210000
LOCATION:Rotown
SEQUENCE:0
SUMMARY:35 & Still Alive
UID:ee7a4627-f49d-470d-91da-57adc9315079
URL:https://www.uitagendarotterdam.nl/agenda/35-still-alive/
END:VEVENT
END:VCALENDAR
