BEGIN:VCALENDAR
PRODID:-//github.com/ical-org/ical.net//NONSGML ical.net 5.2.1//EN
VERSION:2.0
BEGIN:VTIMEZONE
TZID:Europe/Amsterdam
X-LIC-LOCATION:Europe/Amsterdam
END:VTIMEZONE
BEGIN:VEVENT
DESCRIPTION:Het Trio van Toen neemt je deze zondagmiddag mee terug naar lan
 g vervlogen tijden. Monique van de Keer (zang)\, Pieter van Santen (piano)
 \, Thomas Kwakernaat (contrabas) en Michael van Praag (drums) steken in De
  50-er jaren show Nederlandse hits van vroeger in een swingend jazzjasje!
DTEND;TZID=Local:20260517T163000
DTSTAMP:20260421T052706Z
DTSTART;TZID=Local:20260517T143000
LOCATION:Podium Islemunda
SEQUENCE:0
SUMMARY:De 50-er jaren show
UID:02f1482d-ea46-43c3-ac85-9c49ce9ddd55
URL:https://www.uitagendarotterdam.nl/agenda/de-50-er-jaren-show/
END:VEVENT
END:VCALENDAR
