BEGIN:VCALENDAR
PRODID:-//github.com/ical-org/ical.net//NONSGML ical.net 5.2.1//EN
VERSION:2.0
BEGIN:VTIMEZONE
TZID:Europe/Amsterdam
X-LIC-LOCATION:Europe/Amsterdam
END:VTIMEZONE
BEGIN:VEVENT
DESCRIPTION:Heidi en de Legende van de Lynx is het langverwachte bioscoopav
 ontuur van het iconische meisje uit de bergen\, opnieuw tot leven gebracht
 . Een film waarvan de gehele familie van kan genieten!
DTSTAMP:20260421T052707Z
DTSTART;TZID=Local:20260429T150000
LOCATION:Podium Islemunda
SEQUENCE:0
SUMMARY:Heidi - De Legende van de Lynx
UID:c64ff6f6-d537-4e9f-a604-5a8ac16cee79
URL:https://www.uitagendarotterdam.nl/agenda/heidi-de-legende-van-de-lynx-6
 plus-1/
END:VEVENT
END:VCALENDAR
