BEGIN:VCALENDAR
PRODID:-//github.com/ical-org/ical.net//NONSGML ical.net 5.2.1//EN
VERSION:2.0
BEGIN:VTIMEZONE
TZID:Europe/Amsterdam
X-LIC-LOCATION:Europe/Amsterdam
END:VTIMEZONE
BEGIN:VEVENT
DESCRIPTION:Op donderdag 23 april vindt er weer een leuke Film in de Wijk-e
 ditie plaats! In de theaterzaal draaien we de Nederlandse tragikomische fi
 lm De beentjes van Sint-Hillegard!
DTSTAMP:20260421T052815Z
DTSTART;TZID=Local:20260423T134500
LOCATION:Podium Islemunda
SEQUENCE:0
SUMMARY:Film in de Wijk - De beentjes van Sint-Hillegard
UID:b50c0cc6-5234-4caa-9802-fd725de11cc0
URL:https://www.uitagendarotterdam.nl/agenda/film-in-de-wijk-de-beentjes-va
 n-sint-hillegard/
END:VEVENT
END:VCALENDAR
