BEGIN:VCALENDAR
PRODID:-//github.com/ical-org/ical.net//NONSGML ical.net 5.2.1//EN
VERSION:2.0
BEGIN:VTIMEZONE
TZID:Europe/Amsterdam
X-LIC-LOCATION:Europe/Amsterdam
END:VTIMEZONE
BEGIN:VEVENT
DESCRIPTION:Vrijdagochtend kun je in de theaterzaal van Podium Islemunda ki
 jken naar de jeugdvoorstelling Gewoon zoals je bent (2+). Gaan we je zien?
DTEND;TZID=Local:20260529T111000
DTSTAMP:20260421T052704Z
DTSTART;TZID=Local:20260529T103000
LOCATION:Podium Islemunda
SEQUENCE:0
SUMMARY:Gewoon zoals je bent
UID:9b5f111a-a7ce-419c-be51-dcc463b3bf1e
URL:https://www.uitagendarotterdam.nl/agenda/gewoon-zoals-je-bent-2plus/
END:VEVENT
END:VCALENDAR
