BEGIN:VCALENDAR
PRODID:-//github.com/ical-org/ical.net//NONSGML ical.net 5.2.1//EN
VERSION:2.0
BEGIN:VTIMEZONE
TZID:Europe/Amsterdam
X-LIC-LOCATION:Europe/Amsterdam
END:VTIMEZONE
BEGIN:VEVENT
DESCRIPTION:Zin in een zomers uitje dat je even meevoert naar Sicili?? Kom
  dan naar Gioia mia\, een warm en ontroerend Italiaanse feelgoodfilm  over
  verschillende generaties die elkaar uiteindelijk weten te vinden. Stiekem
  gaat de film ook over eerste (en tweede) liefde van Nico en Gela. En voor
 al dat delicate verhaal\, verteld met tedere precisie\, maakt Gioia Mia bi
 jzonder! 
DTEND;TZID=Local:20260424T203000
DTSTAMP:20260421T052746Z
DTSTART;TZID=Local:20260424T190000
LOCATION:Podium Islemunda
SEQUENCE:0
SUMMARY:Gioia Mia
UID:3cfa4292-9114-4b03-bd57-efd0b77fc049
URL:https://www.uitagendarotterdam.nl/agenda/gioia-mia/
END:VEVENT
END:VCALENDAR
