BEGIN:VCALENDAR
PRODID:-//github.com/ical-org/ical.net//NONSGML ical.net 5.2.1//EN
VERSION:2.0
BEGIN:VTIMEZONE
TZID:Europe/Amsterdam
X-LIC-LOCATION:Europe/Amsterdam
END:VTIMEZONE
BEGIN:VEVENT
DESCRIPTION:Duik in de chemie en word laborant voor een dag. 
DTEND;TZID=Local:20261205T150000
DTSTAMP:20260421T034310Z
DTSTART;TZID=Local:20261205T110000
LOCATION:Portlantis
SEQUENCE:0
SUMMARY:Chemische proefjes in Portlantis
UID:4233b22e-35b5-4dd2-97d5-c806bb18c53f
URL:https://www.uitagendarotterdam.nl/agenda/chemische-proefjes-in-portlant
 is/
END:VEVENT
END:VCALENDAR
