BEGIN:VCALENDAR
PRODID:-//github.com/ical-org/ical.net//NONSGML ical.net 5.2.1//EN
VERSION:2.0
BEGIN:VTIMEZONE
TZID:Europe/Amsterdam
X-LIC-LOCATION:Europe/Amsterdam
END:VTIMEZONE
BEGIN:VEVENT
DESCRIPTION:Duik in de chemie en word laborant voor een dag. 
DTEND;TZID=Local:20261107T150000
DTSTAMP:20260421T034716Z
DTSTART;TZID=Local:20261107T110000
LOCATION:Portlantis
SEQUENCE:0
SUMMARY:Chemische proefjes in Portlantis
UID:97b92200-b351-41ba-98b0-3040882a5645
URL:https://www.uitagendarotterdam.nl/agenda/chemische-proefjes-in-portlant
 is/
END:VEVENT
END:VCALENDAR
