BEGIN:VCALENDAR
PRODID:-//github.com/ical-org/ical.net//NONSGML ical.net 5.2.1//EN
VERSION:2.0
BEGIN:VTIMEZONE
TZID:Europe/Amsterdam
X-LIC-LOCATION:Europe/Amsterdam
END:VTIMEZONE
BEGIN:VEVENT
DESCRIPTION:Duik in de chemie en word laborant voor een dag. 
DTEND;TZID=Local:20260801T150000
DTSTAMP:20260421T034330Z
DTSTART;TZID=Local:20260801T110000
LOCATION:Portlantis
SEQUENCE:0
SUMMARY:Chemische proefjes in Portlantis
UID:ed767f18-1e10-459c-b09b-d2db6d157121
URL:https://www.uitagendarotterdam.nl/agenda/chemische-proefjes-in-portlant
 is/
END:VEVENT
END:VCALENDAR
