BEGIN:VCALENDAR
PRODID:-//github.com/ical-org/ical.net//NONSGML ical.net 5.2.1//EN
VERSION:2.0
BEGIN:VTIMEZONE
TZID:Europe/Amsterdam
X-LIC-LOCATION:Europe/Amsterdam
END:VTIMEZONE
BEGIN:VEVENT
DESCRIPTION:Een avond over zelfexpressie\, identiteit en het moment waarop 
 verbinding begint.
DTEND;TZID=Local:20260424T030000
DTSTAMP:20260421T051225Z
DTSTART;TZID=Local:20260424T210000
LOCATION:OASE
SEQUENCE:0
SUMMARY:Gast - Sabora
UID:52e72d58-6409-4cbe-bcd0-044fd0416ed7
URL:https://www.uitagendarotterdam.nl/agenda/gast-sabora/
END:VEVENT
END:VCALENDAR
