BEGIN:VCALENDAR
PRODID:-//github.com/ical-org/ical.net//NONSGML ical.net 5.2.1//EN
VERSION:2.0
BEGIN:VTIMEZONE
TZID:Europe/Amsterdam
X-LIC-LOCATION:Europe/Amsterdam
END:VTIMEZONE
BEGIN:VEVENT
DESCRIPTION:24th edition of Dutch Doom Days.
DTSTAMP:20260421T043949Z
DTSTART;TZID=Local:20261108T130000
LOCATION:Baroeg
SEQUENCE:0
SUMMARY:DDD XXIV Day 2 - Celestial Season
UID:21469bf5-1cdd-40e7-ab8e-28978bd6ad68
URL:https://www.uitagendarotterdam.nl/agenda/ddd-xxiv-day-2-celestial-seaso
 n-plus-stygian-crown-plus-officium-triste-plus-the-answer-lies-in-the-blac
 k-void-plus-mortajas/
END:VEVENT
END:VCALENDAR
