BEGIN:VCALENDAR
PRODID:-//github.com/ical-org/ical.net//NONSGML ical.net 5.2.1//EN
VERSION:2.0
BEGIN:VTIMEZONE
TZID:Europe/Amsterdam
X-LIC-LOCATION:Europe/Amsterdam
END:VTIMEZONE
BEGIN:VEVENT
DESCRIPTION:A short film about reclaiming beauty through innovation\, susta
 inability and community.\n
DTEND;TZID=Local:20260429T213000
DTSTAMP:20260421T033433Z
DTSTART;TZID=Local:20260429T190000
LOCATION:Gemaal op Zuid
SEQUENCE:0
SUMMARY:reclaimed - beyond the braid pop up & screening by Rebundle
UID:5fd7e801-a4a6-42a4-935c-94bddb6a06a0
URL:https://www.uitagendarotterdam.nl/agenda/reclaimed-beyond-the-braid-pop
 -up-screening-by-rebundle/
END:VEVENT
END:VCALENDAR
