BEGIN:VCALENDAR
PRODID:-//github.com/ical-org/ical.net//NONSGML ical.net 5.2.1//EN
VERSION:2.0
BEGIN:VTIMEZONE
TZID:Europe/Amsterdam
X-LIC-LOCATION:Europe/Amsterdam
END:VTIMEZONE
BEGIN:VEVENT
DESCRIPTION:Een mysterieuze reis door soundscapes en verrassende afslagen.
DTEND;TZID=Local:20260619T220000
DTSTAMP:20260423T090348Z
DTSTART;TZID=Local:20260619T200000
LOCATION:De Fruitvis
SEQUENCE:0
SUMMARY:Gulli Gudmundsson Trio
UID:213c72ee-0f39-47d9-8649-8294db3d6c54
URL:https://www.uitagendarotterdam.nl/agenda/gulli-gudmundsson-trio/
END:VEVENT
END:VCALENDAR
