BEGIN:VCALENDAR
PRODID:-//github.com/ical-org/ical.net//NONSGML ical.net 5.2.1//EN
VERSION:2.0
BEGIN:VTIMEZONE
TZID:Europe/Amsterdam
X-LIC-LOCATION:Europe/Amsterdam
END:VTIMEZONE
BEGIN:VEVENT
DESCRIPTION:Existenti?le moed is de moed om volledig te zijn wie je bent. 
 Dit is een krachtige plek\, maar tegelijk ook de meest kwetsbare. Iedereen
  kan het zien. Iedereen kan er iets van?vinden.
DTSTAMP:20260423T090643Z
DTSTART;TZID=Local:20260613T200000
LOCATION:Theater Zuidplein
SEQUENCE:0
SUMMARY:BUSHID? Nina Dumoulin
UID:8ab9b6ec-874d-4aa9-b75d-0e3ae80a565e
URL:https://www.uitagendarotterdam.nl/agenda/bushido-nina-dumoulin/
END:VEVENT
END:VCALENDAR
