BEGIN:VCALENDAR
PRODID:-//github.com/ical-org/ical.net//NONSGML ical.net 5.2.1//EN
VERSION:2.0
BEGIN:VTIMEZONE
TZID:Europe/Amsterdam
X-LIC-LOCATION:Europe/Amsterdam
END:VTIMEZONE
BEGIN:VEVENT
DESCRIPTION:Op 25 april om 20:00 uur vindt er een uniek concert plaats in d
 e sfeervolle Bergsingelkerk in hartje Rotterdam. 
DTSTAMP:20260421T043445Z
DTSTART;TZID=Local:20260424T200000
LOCATION:Bergsingelkerk
SEQUENCE:0
SUMMARY:Antonio Vivaldi: Four Seasons by La Chapelle Sauvage
UID:bf8e6df0-dd3e-4c36-934e-d1b6d787748e
URL:https://www.uitagendarotterdam.nl/agenda/antonio-vivaldi-four-seasons-b
 y-la-chapelle-sauvage/
END:VEVENT
END:VCALENDAR
