BEGIN:VCALENDAR
PRODID:-//github.com/ical-org/ical.net//NONSGML ical.net 5.2.1//EN
VERSION:2.0
BEGIN:VTIMEZONE
TZID:Europe/Amsterdam
X-LIC-LOCATION:Europe/Amsterdam
END:VTIMEZONE
BEGIN:VEVENT
DESCRIPTION:Opvallend is de terugkeer van klassieke mannelijkheid\, vooral 
 in de online ?manosphere?\, waar influencers conservatieve mannenbeeld
 en promoten.
DTEND;TZID=Local:20260507T220000
DTSTAMP:20260421T043403Z
DTSTART;TZID=Local:20260507T200000
LOCATION:Arminius
SEQUENCE:0
SUMMARY:Wat is een echte man?
UID:8bf03d37-4ab7-412d-ab26-2f1e4015dc37
URL:https://www.uitagendarotterdam.nl/agenda/wat-is-een-echte-man/
END:VEVENT
END:VCALENDAR
