BEGIN:VCALENDAR
PRODID:-//github.com/ical-org/ical.net//NONSGML ical.net 5.2.1//EN
VERSION:2.0
BEGIN:VTIMEZONE
TZID:Europe/Amsterdam
X-LIC-LOCATION:Europe/Amsterdam
END:VTIMEZONE
BEGIN:VEVENT
DESCRIPTION:Blame it on the Boogie\, ABC en I?ll Be There\; stuk voor stu
 k tijdloze klassiekers in de muziekgeschiedenis. The Jacksons bestaan nog 
 altijd en staan ook anno 2026 garant voor een onvergetelijke avond vol onw
 eerstaanbare grooves en energie. Can you feel it??\n
DTSTAMP:20260421T052707Z
DTSTART;TZID=Local:20260524T203000
LOCATION:De Doelen
SEQUENCE:0
SUMMARY:The Jacksons -  greatest hits
UID:663a0335-8180-439f-97c6-f53bc307ffcf
URL:https://www.uitagendarotterdam.nl/agenda/the-jacksons-greatest-hits/
END:VEVENT
END:VCALENDAR
