BEGIN:VCALENDAR
PRODID:-//github.com/ical-org/ical.net//NONSGML ical.net 5.2.1//EN
VERSION:2.0
BEGIN:VTIMEZONE
TZID:Europe/Amsterdam
X-LIC-LOCATION:Europe/Amsterdam
END:VTIMEZONE
BEGIN:VEVENT
DESCRIPTION:Laura Murphy combineert luchtacrobatiek\, theater en videoproje
 ctie in een persoonlijke voorstelling over mentale gezondheid\, queerness 
 en neurodiversiteit. Een ontwapenende mix van circus en theater.
DTEND;TZID=Local:20260429T230000
DTSTAMP:20260421T043403Z
DTSTART;TZID=Local:20260429T224500
LOCATION:TR25 Schouwburg
SEQUENCE:0
SUMMARY:A Spectacle of Herself - Laura Murphy
UID:6cbf109f-f822-4ddc-a1fd-99bce7eb2448
URL:https://www.uitagendarotterdam.nl/agenda/a-spectacle-of-herself-laura-m
 urphy-16plus/
END:VEVENT
END:VCALENDAR
