BEGIN:VCALENDAR
PRODID:-//github.com/ical-org/ical.net//NONSGML ical.net 5.2.1//EN
VERSION:2.0
BEGIN:VTIMEZONE
TZID:Europe/Amsterdam
X-LIC-LOCATION:Europe/Amsterdam
END:VTIMEZONE
BEGIN:VEVENT
DESCRIPTION:GenderBendingCruiseParty keert terug naar Worm in Rotterdam met
  een vijfde editie rond revolutie\, queerness en collectieve energie. Bezo
 ekers verkennen hoe verzet en verbinding samengaan in tijden van onzekerhe
 id. Een avond voor mensen die zich thuis voelen in een queer\, non-conform
  en bewust samenzijn.
DTEND;TZID=Local:20260425T050000
DTSTAMP:20260421T082951Z
DTSTART;TZID=Local:20260425T230000
LOCATION:Worm
SEQUENCE:0
SUMMARY:GenderBendingCruiseParty - The Revolution Is My Boyfriend
UID:82c59b83-29df-4173-a259-6ebf8483033b
URL:https://www.uitagendarotterdam.nl/agenda/genderbendingcruiseparty-the-r
 evolution-is-my-boyfriend/
END:VEVENT
END:VCALENDAR
