BEGIN:VCALENDAR
PRODID:-//github.com/ical-org/ical.net//NONSGML ical.net 5.2.1//EN
VERSION:2.0
BEGIN:VTIMEZONE
TZID:Europe/Amsterdam
X-LIC-LOCATION:Europe/Amsterdam
END:VTIMEZONE
BEGIN:VEVENT
DESCRIPTION:Het Amsterdamse Hiqpy voelt als een wervelwind waarin talloze i
 nvloeden samenkomen. 
DTEND;TZID=Local:20260509T230000
DTSTAMP:20260421T052748Z
DTSTART;TZID=Local:20260509T211500
LOCATION:Rotown
SEQUENCE:0
SUMMARY:Hiqpy
UID:729f3a2a-eb5f-40d7-b046-4659d25322ea
URL:https://www.uitagendarotterdam.nl/agenda/hiqpy/
END:VEVENT
END:VCALENDAR
