BEGIN:VCALENDAR
PRODID:-//github.com/ical-org/ical.net//NONSGML ical.net 5.2.1//EN
VERSION:2.0
BEGIN:VTIMEZONE
TZID:Europe/Amsterdam
X-LIC-LOCATION:Europe/Amsterdam
END:VTIMEZONE
BEGIN:VEVENT
DESCRIPTION:Welkom aan boord van het ss Rotterdam voor een nieuw evenement:
  de Wijn- & kookboeken ruilbeurs in onze sfeervolle Ocean Wine Bar\, een v
 an de mooiste locaties van Rotterdam\, met een prachtig uitzicht over de s
 tad! Geef jouw kook- en wijnboeken een tweede leven\, ontmoet mede foodies
  en ga naar huis met frisse inspiratie.
DTEND;TZID=Local:20261002T200000
DTSTAMP:20260425T143027Z
DTSTART;TZID=Local:20261002T180000
LOCATION:ss Rotterdam
SEQUENCE:0
SUMMARY:Wijn- & kookboeken ruilbeurs - ss Rotterdam
UID:bb5e777e-f462-44df-8c08-c835ea39637e
URL:https://www.uitagendarotterdam.nl/agenda/wijn-kookboeken-ruilbeurs-ss-r
 otterdam/
END:VEVENT
END:VCALENDAR
