BEGIN:VCALENDAR
PRODID:-//github.com/ical-org/ical.net//NONSGML ical.net 5.2.1//EN
VERSION:2.0
BEGIN:VTIMEZONE
TZID:Europe/Amsterdam
X-LIC-LOCATION:Europe/Amsterdam
END:VTIMEZONE
BEGIN:VEVENT
DESCRIPTION:Tijdens deze creatieve workshop op een unieke locatie maak je e
 en persoonlijke verhalenvaas en geef je dat wat jou raakt\, kracht geeft o
 f blij een tastbare vorm in collage.
DTEND;TZID=Local:20260617T130000
DTSTAMP:20260421T043511Z
DTSTART;TZID=Local:20260617T110000
LOCATION:De HER
SEQUENCE:0
SUMMARY:Maak je eigen unieke verhalenvaas
UID:ecc557b9-942a-4da4-b381-a36c079286c5
URL:https://www.uitagendarotterdam.nl/agenda/maak-je-eigen-unieke-verhalenv
 aas/
END:VEVENT
END:VCALENDAR
