BEGIN:VCALENDAR
PRODID:-//github.com/ical-org/ical.net//NONSGML ical.net 5.2.1//EN
VERSION:2.0
BEGIN:VTIMEZONE
TZID:Europe/Amsterdam
X-LIC-LOCATION:Europe/Amsterdam
END:VTIMEZONE
BEGIN:VEVENT
DESCRIPTION:Tijdens deze creatieve workshop op een unieke locatie maak je e
 en persoonlijke verhalenvaas en geef je dat wat jou raakt\, kracht geeft o
 f blij een tastbare vorm in collage.
DTEND;TZID=Local:20260517T160000
DTSTAMP:20260421T043445Z
DTSTART;TZID=Local:20260517T140000
LOCATION:De HER
SEQUENCE:0
SUMMARY:Maak je eigen unieke verhalenvaas
UID:b2cbd945-5685-4d5c-8591-8a438ec2c2db
URL:https://www.uitagendarotterdam.nl/agenda/maak-je-eigen-unieke-verhalenv
 aas/
END:VEVENT
END:VCALENDAR
